BEGIN:VCALENDAR
VERSION:2.0
PRODID:-//Bergthaler Mennonite Church - ECPv6.15.18//NONSGML v1.0//EN
CALSCALE:GREGORIAN
METHOD:PUBLISH
X-WR-CALNAME:Bergthaler Mennonite Church
X-ORIGINAL-URL:https://bmchurch.ca
X-WR-CALDESC:Events for Bergthaler Mennonite Church
REFRESH-INTERVAL;VALUE=DURATION:PT1H
X-Robots-Tag:noindex
X-PUBLISHED-TTL:PT1H
BEGIN:VTIMEZONE
TZID:America/Regina
BEGIN:STANDARD
TZOFFSETFROM:-0600
TZOFFSETTO:-0600
TZNAME:CST
DTSTART:20250101T000000
END:STANDARD
END:VTIMEZONE
BEGIN:VEVENT
DTSTART;TZID=America/Regina:20260423T193000
DTEND;TZID=America/Regina:20260423T193000
DTSTAMP:20260423T061813
CREATED:20260111T052558Z
LAST-MODIFIED:20260111T052558Z
UID:15458-1776972600-1776972600@bmchurch.ca
SUMMARY:Grade 11 & 12 Youth - Bible Study
DESCRIPTION:Please bring your bibles to studies
URL:https://bmchurch.ca/event/grade-11-12-youth-bible-study-8/
LOCATION:Gruenthal Church
CATEGORIES:Grade 11 & 12 Youth
END:VEVENT
BEGIN:VEVENT
DTSTART;TZID=America/Regina:20260423T193000
DTEND;TZID=America/Regina:20260423T193000
DTSTAMP:20260423T061813
CREATED:20260214T000228Z
LAST-MODIFIED:20260214T000228Z
UID:15622-1776972600-1776972600@bmchurch.ca
SUMMARY:Grade 7 & 8 Youth – Bible Study
DESCRIPTION:
URL:https://bmchurch.ca/event/grade-7-8-youth-bible-study-7/
LOCATION:Gruenthal Church
CATEGORIES:Grade 7 & 8 Youth
END:VEVENT
BEGIN:VEVENT
DTSTART;TZID=America/Regina:20260424T193000
DTEND;TZID=America/Regina:20260424T193000
DTSTAMP:20260423T061813
CREATED:20260121T012839Z
LAST-MODIFIED:20260121T013136Z
UID:15506-1777059000-1777059000@bmchurch.ca
SUMMARY:Young Adults – Bible Study
DESCRIPTION:
URL:https://bmchurch.ca/event/young-adults-bible-study-10/
LOCATION:Gruenthal Church
CATEGORIES:Young Adults
END:VEVENT
BEGIN:VEVENT
DTSTART;TZID=America/Regina:20260424T193000
DTEND;TZID=America/Regina:20260424T213000
DTSTAMP:20260423T061813
CREATED:20260128T214727Z
LAST-MODIFIED:20260128T215612Z
UID:15542-1777059000-1777066200@bmchurch.ca
SUMMARY:Grade 9 & 10 Youth – Bible Study
DESCRIPTION:
URL:https://bmchurch.ca/event/grade-9-10-youth-bible-study-7/
LOCATION:Gruenthal Church
CATEGORIES:Grade 9 & 10 Youth
END:VEVENT
BEGIN:VEVENT
DTSTART;TZID=America/Regina:20260426T100000
DTEND;TZID=America/Regina:20260426T100000
DTSTAMP:20260423T061813
CREATED:20260329T145334Z
LAST-MODIFIED:20260329T145334Z
UID:15785-1777197600-1777197600@bmchurch.ca
SUMMARY:Sunday Moring Service
DESCRIPTION:
URL:https://bmchurch.ca/event/sunday-moring-service-4/
LOCATION:All Churches
CATEGORIES:Church Service
END:VEVENT
BEGIN:VEVENT
DTSTART;TZID=America/Regina:20260426T140000
DTEND;TZID=America/Regina:20260426T140000
DTSTAMP:20260423T061813
CREATED:20260306T221600Z
LAST-MODIFIED:20260306T221600Z
UID:15691-1777212000-1777212000@bmchurch.ca
SUMMARY:Baptism Lession 7
DESCRIPTION:
URL:https://bmchurch.ca/event/baptism-lession-7/
LOCATION:Gruenthal Church
END:VEVENT
BEGIN:VEVENT
DTSTART;TZID=America/Regina:20260430T193000
DTEND;TZID=America/Regina:20260430T193000
DTSTAMP:20260423T061813
CREATED:20260111T052558Z
LAST-MODIFIED:20260111T052558Z
UID:15459-1777577400-1777577400@bmchurch.ca
SUMMARY:Grade 11 & 12 Youth - Bible Study
DESCRIPTION:Please bring your bibles to studies
URL:https://bmchurch.ca/event/grade-11-12-youth-bible-study-9/
LOCATION:Gruenthal Church
CATEGORIES:Grade 11 & 12 Youth
END:VEVENT
BEGIN:VEVENT
DTSTART;TZID=America/Regina:20260430T193000
DTEND;TZID=America/Regina:20260430T193000
DTSTAMP:20260423T061813
CREATED:20260214T000228Z
LAST-MODIFIED:20260214T000228Z
UID:15623-1777577400-1777577400@bmchurch.ca
SUMMARY:Grade 7 & 8 Youth – Paint Night
DESCRIPTION:
URL:https://bmchurch.ca/event/grade-7-8-youth-paint-night/
LOCATION:Blumenheim Church
CATEGORIES:Grade 7 & 8 Youth
END:VEVENT
BEGIN:VEVENT
DTSTART;TZID=America/Regina:20260501T193000
DTEND;TZID=America/Regina:20260501T193000
DTSTAMP:20260423T061813
CREATED:20260128T214727Z
LAST-MODIFIED:20260128T215245Z
UID:15543-1777663800-1777663800@bmchurch.ca
SUMMARY:Grade 9 & 10 Youth – Stoked Center Social
DESCRIPTION:Details to follow
URL:https://bmchurch.ca/event/grade-9-10-youth-stoked-center-social/
CATEGORIES:Grade 9 & 10 Youth
END:VEVENT
BEGIN:VEVENT
DTSTART;TZID=America/Regina:20260501T193000
DTEND;TZID=America/Regina:20260501T193000
DTSTAMP:20260423T061813
CREATED:20260416T234420Z
LAST-MODIFIED:20260416T234420Z
UID:15880-1777663800-1777663800@bmchurch.ca
SUMMARY:Grade 11 & 12 Youth – Guys/Girls Night
DESCRIPTION:Girls: Sleepover @ Warman\, May 1-2 – details to follow\nGuys: Details to follow
URL:https://bmchurch.ca/event/grade-11-12-youth-guys-girls-night/
CATEGORIES:Grade 11 & 12 Youth
END:VEVENT
BEGIN:VEVENT
DTSTART;TZID=America/Regina:20260502T080000
DTEND;TZID=America/Regina:20260502T080000
DTSTAMP:20260423T061813
CREATED:20260110T144215Z
LAST-MODIFIED:20260110T144215Z
UID:15366-1777708800-1777708800@bmchurch.ca
SUMMARY:Men’s Prayer Fellowship
DESCRIPTION:
URL:https://bmchurch.ca/event/mens-prayer-fellowship-4/
LOCATION:Gruenthal Church
CATEGORIES:Men's Group
END:VEVENT
BEGIN:VEVENT
DTSTART;TZID=America/Regina:20260503T100000
DTEND;TZID=America/Regina:20260503T100000
DTSTAMP:20260423T061813
CREATED:20260329T145334Z
LAST-MODIFIED:20260329T145334Z
UID:15786-1777802400-1777802400@bmchurch.ca
SUMMARY:Sunday Moring Service
DESCRIPTION:
URL:https://bmchurch.ca/event/sunday-moring-service-5/
LOCATION:All Churches
CATEGORIES:Church Service
END:VEVENT
BEGIN:VEVENT
DTSTART;TZID=America/Regina:20260503T140000
DTEND;TZID=America/Regina:20260503T140000
DTSTAMP:20260423T061813
CREATED:20260306T221600Z
LAST-MODIFIED:20260306T221600Z
UID:15692-1777816800-1777816800@bmchurch.ca
SUMMARY:Baptism Lession 8
DESCRIPTION:
URL:https://bmchurch.ca/event/baptism-lession-8/
LOCATION:Gruenthal Church
END:VEVENT
BEGIN:VEVENT
DTSTART;TZID=America/Regina:20260507T193000
DTEND;TZID=America/Regina:20260507T193000
DTSTAMP:20260423T061813
CREATED:20260214T000228Z
LAST-MODIFIED:20260214T000228Z
UID:15624-1778182200-1778182200@bmchurch.ca
SUMMARY:Grade 7 & 8 Youth – Bible Study
DESCRIPTION:
URL:https://bmchurch.ca/event/grade-7-8-youth-bible-study-8/
LOCATION:Gruenthal Church
CATEGORIES:Grade 7 & 8 Youth
END:VEVENT
BEGIN:VEVENT
DTSTART;TZID=America/Regina:20260507T193000
DTEND;TZID=America/Regina:20260507T193000
DTSTAMP:20260423T061813
CREATED:20260416T234421Z
LAST-MODIFIED:20260416T234421Z
UID:15881-1778182200-1778182200@bmchurch.ca
SUMMARY:Grade 11 & 12 Youth – Bible Study
DESCRIPTION:
URL:https://bmchurch.ca/event/grade-11-12-youth-bible-study-10/
LOCATION:Gruenthal Church
CATEGORIES:Grade 11 & 12 Youth
END:VEVENT
BEGIN:VEVENT
DTSTART;TZID=America/Regina:20260508T193000
DTEND;TZID=America/Regina:20260508T213000
DTSTAMP:20260423T061813
CREATED:20260128T214727Z
LAST-MODIFIED:20260128T215627Z
UID:15544-1778268600-1778275800@bmchurch.ca
SUMMARY:Grade 9 & 10 Youth – Bible Study
DESCRIPTION:
URL:https://bmchurch.ca/event/grade-9-10-youth-bible-study-8/
LOCATION:Gruenthal Church
CATEGORIES:Grade 9 & 10 Youth
END:VEVENT
BEGIN:VEVENT
DTSTART;TZID=America/Regina:20260510T100000
DTEND;TZID=America/Regina:20260510T100000
DTSTAMP:20260423T061813
CREATED:20260306T221600Z
LAST-MODIFIED:20260306T221600Z
UID:15693-1778407200-1778407200@bmchurch.ca
SUMMARY:Catechism Recital
DESCRIPTION:
URL:https://bmchurch.ca/event/catechism-recital/
END:VEVENT
BEGIN:VEVENT
DTSTART;TZID=America/Regina:20260510T100000
DTEND;TZID=America/Regina:20260510T100000
DTSTAMP:20260423T061813
CREATED:20260329T145334Z
LAST-MODIFIED:20260329T145334Z
UID:15787-1778407200-1778407200@bmchurch.ca
SUMMARY:Sunday Moring Service
DESCRIPTION:
URL:https://bmchurch.ca/event/sunday-moring-service-6/
LOCATION:All Churches
CATEGORIES:Church Service
END:VEVENT
BEGIN:VEVENT
DTSTART;TZID=America/Regina:20260511T193000
DTEND;TZID=America/Regina:20260511T193000
DTSTAMP:20260423T061813
CREATED:20260109T205437Z
LAST-MODIFIED:20260109T205437Z
UID:15234-1778527800-1778527800@bmchurch.ca
SUMMARY:Monthly Mission Prayer Meeting
DESCRIPTION:Everyone Welcome!
URL:https://bmchurch.ca/event/monthly-mission-prayer-meeting-5/
LOCATION:Gruenthal Church
END:VEVENT
BEGIN:VEVENT
DTSTART;TZID=America/Regina:20260514T193000
DTEND;TZID=America/Regina:20260514T193000
DTSTAMP:20260423T061813
CREATED:20260214T000228Z
LAST-MODIFIED:20260214T000228Z
UID:15625-1778787000-1778787000@bmchurch.ca
SUMMARY:Grade 7 & 8 Youth – Bible Study
DESCRIPTION:
URL:https://bmchurch.ca/event/grade-7-8-youth-bible-study-9/
LOCATION:Gruenthal Church
CATEGORIES:Grade 7 & 8 Youth
END:VEVENT
BEGIN:VEVENT
DTSTART;TZID=America/Regina:20260514T193000
DTEND;TZID=America/Regina:20260514T193000
DTSTAMP:20260423T061813
CREATED:20260306T221600Z
LAST-MODIFIED:20260306T221600Z
UID:15694-1778787000-1778787000@bmchurch.ca
SUMMARY:Catechism Recital
DESCRIPTION:
URL:https://bmchurch.ca/event/catechism-recital-2/
END:VEVENT
BEGIN:VEVENT
DTSTART;TZID=America/Regina:20260514T193000
DTEND;TZID=America/Regina:20260514T193000
DTSTAMP:20260423T061813
CREATED:20260416T234421Z
LAST-MODIFIED:20260416T234421Z
UID:15882-1778787000-1778787000@bmchurch.ca
SUMMARY:Grade 11 & 12 Youth – Bible Study
DESCRIPTION:
URL:https://bmchurch.ca/event/grade-11-12-youth-bible-study-11/
LOCATION:Gruenthal Church
CATEGORIES:Grade 11 & 12 Youth
END:VEVENT
BEGIN:VEVENT
DTSTART;TZID=America/Regina:20260515T193000
DTEND;TZID=America/Regina:20260515T213000
DTSTAMP:20260423T061813
CREATED:20260128T214727Z
LAST-MODIFIED:20260128T215632Z
UID:15545-1778873400-1778880600@bmchurch.ca
SUMMARY:Grade 9 & 10 Youth – Bible Study
DESCRIPTION:
URL:https://bmchurch.ca/event/grade-9-10-youth-bible-study-9/
LOCATION:Gruenthal Church
CATEGORIES:Grade 9 & 10 Youth
END:VEVENT
BEGIN:VEVENT
DTSTART;TZID=America/Regina:20260517T100000
DTEND;TZID=America/Regina:20260517T100000
DTSTAMP:20260423T061813
CREATED:20260306T221600Z
LAST-MODIFIED:20260306T221600Z
UID:15695-1779012000-1779012000@bmchurch.ca
SUMMARY:Catechism Recital
DESCRIPTION:
URL:https://bmchurch.ca/event/catechism-recital-3/
END:VEVENT
BEGIN:VEVENT
DTSTART;TZID=America/Regina:20260517T100000
DTEND;TZID=America/Regina:20260517T100000
DTSTAMP:20260423T061813
CREATED:20260329T145334Z
LAST-MODIFIED:20260329T145334Z
UID:15788-1779012000-1779012000@bmchurch.ca
SUMMARY:Sunday Moring Service
DESCRIPTION:
URL:https://bmchurch.ca/event/sunday-moring-service-7/
LOCATION:All Churches
CATEGORIES:Church Service
END:VEVENT
BEGIN:VEVENT
DTSTART;TZID=America/Regina:20260518T193000
DTEND;TZID=America/Regina:20260518T193000
DTSTAMP:20260423T061813
CREATED:20260109T210937Z
LAST-MODIFIED:20260109T211611Z
UID:15248-1779132600-1779132600@bmchurch.ca
SUMMARY:Widows Widowers & Singles
DESCRIPTION:Any questions\, contact Andy & Rachel Bueckert 239-2203
URL:https://bmchurch.ca/event/widows-widowers-singles-5/
CATEGORIES:Widows Widowers and Singles
END:VEVENT
BEGIN:VEVENT
DTSTART;TZID=America/Regina:20260518T193000
DTEND;TZID=America/Regina:20260518T193000
DTSTAMP:20260423T061813
CREATED:20260109T211045Z
LAST-MODIFIED:20260109T211350Z
UID:15261-1779132600-1779132600@bmchurch.ca
SUMMARY:Youth Leader Bible Study
DESCRIPTION:
URL:https://bmchurch.ca/event/youth-leader-bible-study-5/
LOCATION:Gruenthal Church
CATEGORIES:Bible Study
END:VEVENT
BEGIN:VEVENT
DTSTART;TZID=America/Regina:20260521T193000
DTEND;TZID=America/Regina:20260521T193000
DTSTAMP:20260423T061813
CREATED:20260214T000228Z
LAST-MODIFIED:20260214T000228Z
UID:15626-1779391800-1779391800@bmchurch.ca
SUMMARY:Grade 7 & 8 Youth – Bottle Drive
DESCRIPTION:
URL:https://bmchurch.ca/event/grade-7-8-youth-bottle-drive/
CATEGORIES:Grade 7 & 8 Youth
END:VEVENT
BEGIN:VEVENT
DTSTART;TZID=America/Regina:20260521T193000
DTEND;TZID=America/Regina:20260521T193000
DTSTAMP:20260423T061813
CREATED:20260416T234421Z
LAST-MODIFIED:20260416T234421Z
UID:15883-1779391800-1779391800@bmchurch.ca
SUMMARY:Grade 11 & 12 Youth – Social
DESCRIPTION:
URL:https://bmchurch.ca/event/grade-11-12-youth-social-4/
CATEGORIES:Grade 11 & 12 Youth
END:VEVENT
BEGIN:VEVENT
DTSTART;TZID=America/Regina:20260522T193000
DTEND;TZID=America/Regina:20260522T193000
DTSTAMP:20260423T061813
CREATED:20260128T214727Z
LAST-MODIFIED:20260128T215245Z
UID:15546-1779478200-1779478200@bmchurch.ca
SUMMARY:Grade 9 & 10 Youth – Progresive Supper
DESCRIPTION:Details to follow
URL:https://bmchurch.ca/event/grade-9-10-youth-progresive-supper/
CATEGORIES:Grade 9 & 10 Youth
END:VEVENT
END:VCALENDAR