BEGIN:VCALENDAR
VERSION:2.0
PRODID:-//Bergthaler Mennonite Church - ECPv6.15.18//NONSGML v1.0//EN
CALSCALE:GREGORIAN
METHOD:PUBLISH
X-WR-CALNAME:Bergthaler Mennonite Church
X-ORIGINAL-URL:https://bmchurch.ca
X-WR-CALDESC:Events for Bergthaler Mennonite Church
REFRESH-INTERVAL;VALUE=DURATION:PT1H
X-Robots-Tag:noindex
X-PUBLISHED-TTL:PT1H
BEGIN:VTIMEZONE
TZID:America/Regina
BEGIN:STANDARD
TZOFFSETFROM:-0600
TZOFFSETTO:-0600
TZNAME:CST
DTSTART:20250101T000000
END:STANDARD
END:VTIMEZONE
BEGIN:VEVENT
DTSTART;TZID=America/Regina:20261018T100000
DTEND;TZID=America/Regina:20261018T100000
DTSTAMP:20260423T180258
CREATED:20260329T145421Z
LAST-MODIFIED:20260329T145421Z
UID:15810-1792317600-1792317600@bmchurch.ca
SUMMARY:Sunday Moring Service
DESCRIPTION:
URL:https://bmchurch.ca/event/sunday-moring-service-29/
LOCATION:All Churches
CATEGORIES:Church Service
END:VEVENT
BEGIN:VEVENT
DTSTART;TZID=America/Regina:20261025T100000
DTEND;TZID=America/Regina:20261025T100000
DTSTAMP:20260423T180258
CREATED:20260329T145421Z
LAST-MODIFIED:20260329T145421Z
UID:15811-1792922400-1792922400@bmchurch.ca
SUMMARY:Sunday Moring Service
DESCRIPTION:
URL:https://bmchurch.ca/event/sunday-moring-service-30/
LOCATION:All Churches
CATEGORIES:Church Service
END:VEVENT
BEGIN:VEVENT
DTSTART;TZID=America/Regina:20261101T100000
DTEND;TZID=America/Regina:20261101T100000
DTSTAMP:20260423T180258
CREATED:20260329T145622Z
LAST-MODIFIED:20260329T145622Z
UID:15812-1793527200-1793527200@bmchurch.ca
SUMMARY:Sunday Moring Service
DESCRIPTION:
URL:https://bmchurch.ca/event/sunday-moring-service-31/
LOCATION:All Churches
CATEGORIES:Church Service
END:VEVENT
BEGIN:VEVENT
DTSTART;TZID=America/Regina:20261108T100000
DTEND;TZID=America/Regina:20261108T100000
DTSTAMP:20260423T180258
CREATED:20260329T145622Z
LAST-MODIFIED:20260329T145622Z
UID:15813-1794132000-1794132000@bmchurch.ca
SUMMARY:Sunday Moring Service
DESCRIPTION:
URL:https://bmchurch.ca/event/sunday-moring-service-32/
LOCATION:All Churches
CATEGORIES:Church Service
END:VEVENT
BEGIN:VEVENT
DTSTART;TZID=America/Regina:20261115T100000
DTEND;TZID=America/Regina:20261115T100000
DTSTAMP:20260423T180258
CREATED:20260329T145622Z
LAST-MODIFIED:20260329T145622Z
UID:15814-1794736800-1794736800@bmchurch.ca
SUMMARY:Sunday Moring Service
DESCRIPTION:
URL:https://bmchurch.ca/event/sunday-moring-service-33/
LOCATION:All Churches
CATEGORIES:Church Service
END:VEVENT
BEGIN:VEVENT
DTSTART;TZID=America/Regina:20261122T100000
DTEND;TZID=America/Regina:20261122T100000
DTSTAMP:20260423T180258
CREATED:20260329T145622Z
LAST-MODIFIED:20260329T145622Z
UID:15815-1795341600-1795341600@bmchurch.ca
SUMMARY:Sunday Moring Service
DESCRIPTION:
URL:https://bmchurch.ca/event/sunday-moring-service-34/
LOCATION:All Churches
CATEGORIES:Church Service
END:VEVENT
BEGIN:VEVENT
DTSTART;TZID=America/Regina:20261129T100000
DTEND;TZID=America/Regina:20261129T100000
DTSTAMP:20260423T180258
CREATED:20260329T145622Z
LAST-MODIFIED:20260329T145622Z
UID:15816-1795946400-1795946400@bmchurch.ca
SUMMARY:Sunday Moring Service
DESCRIPTION:
URL:https://bmchurch.ca/event/sunday-moring-service-35/
LOCATION:All Churches
CATEGORIES:Church Service
END:VEVENT
BEGIN:VEVENT
DTSTART;TZID=America/Regina:20261206T100000
DTEND;TZID=America/Regina:20261206T100000
DTSTAMP:20260423T180258
CREATED:20260329T145823Z
LAST-MODIFIED:20260329T145823Z
UID:15817-1796551200-1796551200@bmchurch.ca
SUMMARY:Sunday Moring Service
DESCRIPTION:
URL:https://bmchurch.ca/event/sunday-moring-service-36/
LOCATION:All Churches
CATEGORIES:Church Service
END:VEVENT
BEGIN:VEVENT
DTSTART;TZID=America/Regina:20261213T100000
DTEND;TZID=America/Regina:20261213T100000
DTSTAMP:20260423T180258
CREATED:20260329T145823Z
LAST-MODIFIED:20260329T145823Z
UID:15818-1797156000-1797156000@bmchurch.ca
SUMMARY:Sunday Moring Service
DESCRIPTION:
URL:https://bmchurch.ca/event/sunday-moring-service-37/
LOCATION:All Churches
CATEGORIES:Church Service
END:VEVENT
BEGIN:VEVENT
DTSTART;TZID=America/Regina:20261220T100000
DTEND;TZID=America/Regina:20261220T100000
DTSTAMP:20260423T180258
CREATED:20260329T145823Z
LAST-MODIFIED:20260329T145823Z
UID:15819-1797760800-1797760800@bmchurch.ca
SUMMARY:Sunday Moring Service
DESCRIPTION:
URL:https://bmchurch.ca/event/sunday-moring-service-38/
LOCATION:All Churches
CATEGORIES:Church Service
END:VEVENT
BEGIN:VEVENT
DTSTART;TZID=America/Regina:20261227T100000
DTEND;TZID=America/Regina:20261227T100000
DTSTAMP:20260423T180258
CREATED:20260329T145823Z
LAST-MODIFIED:20260329T145823Z
UID:15820-1798365600-1798365600@bmchurch.ca
SUMMARY:Sunday Moring Service
DESCRIPTION:
URL:https://bmchurch.ca/event/sunday-moring-service-39/
LOCATION:All Churches
CATEGORIES:Church Service
END:VEVENT
BEGIN:VEVENT
DTSTART;TZID=America/Regina:20270103T100000
DTEND;TZID=America/Regina:20270103T100000
DTSTAMP:20260423T180258
CREATED:20260329T145824Z
LAST-MODIFIED:20260329T145824Z
UID:15821-1798970400-1798970400@bmchurch.ca
SUMMARY:Sunday Moring Service
DESCRIPTION:
URL:https://bmchurch.ca/event/sunday-moring-service-40/
LOCATION:All Churches
CATEGORIES:Church Service
END:VEVENT
BEGIN:VEVENT
DTSTART;TZID=America/Regina:20270110T100000
DTEND;TZID=America/Regina:20270110T100000
DTSTAMP:20260423T180258
CREATED:20260329T150024Z
LAST-MODIFIED:20260329T150024Z
UID:15822-1799575200-1799575200@bmchurch.ca
SUMMARY:Sunday Moring Service
DESCRIPTION:
URL:https://bmchurch.ca/event/sunday-moring-service-41/
LOCATION:All Churches
CATEGORIES:Church Service
END:VEVENT
BEGIN:VEVENT
DTSTART;TZID=America/Regina:20270117T100000
DTEND;TZID=America/Regina:20270117T100000
DTSTAMP:20260423T180258
CREATED:20260329T150024Z
LAST-MODIFIED:20260329T150024Z
UID:15823-1800180000-1800180000@bmchurch.ca
SUMMARY:Sunday Moring Service
DESCRIPTION:
URL:https://bmchurch.ca/event/sunday-moring-service-42/
LOCATION:All Churches
CATEGORIES:Church Service
END:VEVENT
BEGIN:VEVENT
DTSTART;TZID=America/Regina:20270124T100000
DTEND;TZID=America/Regina:20270124T100000
DTSTAMP:20260423T180258
CREATED:20260329T150024Z
LAST-MODIFIED:20260329T150024Z
UID:15824-1800784800-1800784800@bmchurch.ca
SUMMARY:Sunday Moring Service
DESCRIPTION:
URL:https://bmchurch.ca/event/sunday-moring-service-43/
LOCATION:All Churches
CATEGORIES:Church Service
END:VEVENT
BEGIN:VEVENT
DTSTART;TZID=America/Regina:20270131T100000
DTEND;TZID=America/Regina:20270131T100000
DTSTAMP:20260423T180258
CREATED:20260329T150024Z
LAST-MODIFIED:20260329T150024Z
UID:15825-1801389600-1801389600@bmchurch.ca
SUMMARY:Sunday Moring Service
DESCRIPTION:
URL:https://bmchurch.ca/event/sunday-moring-service-44/
LOCATION:All Churches
CATEGORIES:Church Service
END:VEVENT
BEGIN:VEVENT
DTSTART;TZID=America/Regina:20270207T100000
DTEND;TZID=America/Regina:20270207T100000
DTSTAMP:20260423T180258
CREATED:20260329T150024Z
LAST-MODIFIED:20260329T150024Z
UID:15826-1801994400-1801994400@bmchurch.ca
SUMMARY:Sunday Moring Service
DESCRIPTION:
URL:https://bmchurch.ca/event/sunday-moring-service-45/
LOCATION:All Churches
CATEGORIES:Church Service
END:VEVENT
BEGIN:VEVENT
DTSTART;TZID=America/Regina:20270214T100000
DTEND;TZID=America/Regina:20270214T100000
DTSTAMP:20260423T180258
CREATED:20260329T150225Z
LAST-MODIFIED:20260329T150225Z
UID:15827-1802599200-1802599200@bmchurch.ca
SUMMARY:Sunday Moring Service
DESCRIPTION:
URL:https://bmchurch.ca/event/sunday-moring-service-46/
LOCATION:All Churches
CATEGORIES:Church Service
END:VEVENT
BEGIN:VEVENT
DTSTART;TZID=America/Regina:20270221T100000
DTEND;TZID=America/Regina:20270221T100000
DTSTAMP:20260423T180258
CREATED:20260329T150225Z
LAST-MODIFIED:20260329T150225Z
UID:15828-1803204000-1803204000@bmchurch.ca
SUMMARY:Sunday Moring Service
DESCRIPTION:
URL:https://bmchurch.ca/event/sunday-moring-service-47/
LOCATION:All Churches
CATEGORIES:Church Service
END:VEVENT
BEGIN:VEVENT
DTSTART;TZID=America/Regina:20270228T100000
DTEND;TZID=America/Regina:20270228T100000
DTSTAMP:20260423T180258
CREATED:20260329T150225Z
LAST-MODIFIED:20260329T150225Z
UID:15829-1803808800-1803808800@bmchurch.ca
SUMMARY:Sunday Moring Service
DESCRIPTION:
URL:https://bmchurch.ca/event/sunday-moring-service-48/
LOCATION:All Churches
CATEGORIES:Church Service
END:VEVENT
BEGIN:VEVENT
DTSTART;TZID=America/Regina:20270307T100000
DTEND;TZID=America/Regina:20270307T100000
DTSTAMP:20260423T180258
CREATED:20260329T150225Z
LAST-MODIFIED:20260329T150225Z
UID:15830-1804413600-1804413600@bmchurch.ca
SUMMARY:Sunday Moring Service
DESCRIPTION:
URL:https://bmchurch.ca/event/sunday-moring-service-49/
LOCATION:All Churches
CATEGORIES:Church Service
END:VEVENT
BEGIN:VEVENT
DTSTART;TZID=America/Regina:20270314T100000
DTEND;TZID=America/Regina:20270314T100000
DTSTAMP:20260423T180258
CREATED:20260329T150225Z
LAST-MODIFIED:20260329T150225Z
UID:15831-1805018400-1805018400@bmchurch.ca
SUMMARY:Sunday Moring Service
DESCRIPTION:
URL:https://bmchurch.ca/event/sunday-moring-service-50/
LOCATION:All Churches
CATEGORIES:Church Service
END:VEVENT
BEGIN:VEVENT
DTSTART;TZID=America/Regina:20270321T100000
DTEND;TZID=America/Regina:20270321T100000
DTSTAMP:20260423T180258
CREATED:20260329T150426Z
LAST-MODIFIED:20260329T150426Z
UID:15832-1805623200-1805623200@bmchurch.ca
SUMMARY:Sunday Moring Service
DESCRIPTION:
URL:https://bmchurch.ca/event/sunday-moring-service-51/
LOCATION:All Churches
CATEGORIES:Church Service
END:VEVENT
BEGIN:VEVENT
DTSTART;TZID=America/Regina:20270328T100000
DTEND;TZID=America/Regina:20270328T100000
DTSTAMP:20260423T180258
CREATED:20260329T150426Z
LAST-MODIFIED:20260329T150426Z
UID:15833-1806228000-1806228000@bmchurch.ca
SUMMARY:Sunday Moring Service
DESCRIPTION:
URL:https://bmchurch.ca/event/sunday-moring-service-52/
LOCATION:All Churches
CATEGORIES:Church Service
END:VEVENT
BEGIN:VEVENT
DTSTART;TZID=America/Regina:20270404T100000
DTEND;TZID=America/Regina:20270404T100000
DTSTAMP:20260423T180258
CREATED:20260329T150426Z
LAST-MODIFIED:20260329T150426Z
UID:15834-1806832800-1806832800@bmchurch.ca
SUMMARY:Sunday Moring Service
DESCRIPTION:
URL:https://bmchurch.ca/event/sunday-moring-service-53/
LOCATION:All Churches
CATEGORIES:Church Service
END:VEVENT
BEGIN:VEVENT
DTSTART;TZID=America/Regina:20270411T100000
DTEND;TZID=America/Regina:20270411T100000
DTSTAMP:20260423T180258
CREATED:20260329T150426Z
LAST-MODIFIED:20260329T150426Z
UID:15835-1807437600-1807437600@bmchurch.ca
SUMMARY:Sunday Moring Service
DESCRIPTION:
URL:https://bmchurch.ca/event/sunday-moring-service-54/
LOCATION:All Churches
CATEGORIES:Church Service
END:VEVENT
BEGIN:VEVENT
DTSTART;TZID=America/Regina:20270418T100000
DTEND;TZID=America/Regina:20270418T100000
DTSTAMP:20260423T180258
CREATED:20260329T150427Z
LAST-MODIFIED:20260329T150427Z
UID:15836-1808042400-1808042400@bmchurch.ca
SUMMARY:Sunday Moring Service
DESCRIPTION:
URL:https://bmchurch.ca/event/sunday-moring-service-55/
LOCATION:All Churches
CATEGORIES:Church Service
END:VEVENT
END:VCALENDAR