BEGIN:VCALENDAR
VERSION:2.0
PRODID:-//Bergthaler Mennonite Church - ECPv6.15.18//NONSGML v1.0//EN
CALSCALE:GREGORIAN
METHOD:PUBLISH
X-ORIGINAL-URL:https://bmchurch.ca
X-WR-CALDESC:Events for Bergthaler Mennonite Church
REFRESH-INTERVAL;VALUE=DURATION:PT1H
X-Robots-Tag:noindex
X-PUBLISHED-TTL:PT1H
BEGIN:VTIMEZONE
TZID:America/Regina
BEGIN:STANDARD
TZOFFSETFROM:-0600
TZOFFSETTO:-0600
TZNAME:CST
DTSTART:20250101T000000
END:STANDARD
END:VTIMEZONE
BEGIN:VEVENT
DTSTART;TZID=America/Regina:20260706T093000
DTEND;TZID=America/Regina:20260706T093000
DTSTAMP:20260423T103551
CREATED:20260315T221334Z
LAST-MODIFIED:20260315T221511Z
UID:15740-1783330200-1783330200@bmchurch.ca
SUMMARY:DVBS
DESCRIPTION:
URL:https://bmchurch.ca/event/adventure-club/
LOCATION:Reinfeld Church
CATEGORIES:DVBS
END:VEVENT
BEGIN:VEVENT
DTSTART;TZID=America/Regina:20260707T093000
DTEND;TZID=America/Regina:20260707T093000
DTSTAMP:20260423T103551
CREATED:20260315T221335Z
LAST-MODIFIED:20260315T221610Z
UID:15741-1783416600-1783416600@bmchurch.ca
SUMMARY:DVBS
DESCRIPTION:
URL:https://bmchurch.ca/event/adventure-club-2/
LOCATION:Reinfeld & Gruenthal
CATEGORIES:DVBS
END:VEVENT
BEGIN:VEVENT
DTSTART;TZID=America/Regina:20260708T093000
DTEND;TZID=America/Regina:20260708T093000
DTSTAMP:20260423T103551
CREATED:20260315T221335Z
LAST-MODIFIED:20260315T221726Z
UID:15742-1783503000-1783503000@bmchurch.ca
SUMMARY:DVBS
DESCRIPTION:
URL:https://bmchurch.ca/event/adventure-club-3/
LOCATION:Reinfeld & Gruenthal
CATEGORIES:DVBS
END:VEVENT
BEGIN:VEVENT
DTSTART;TZID=America/Regina:20260709T093000
DTEND;TZID=America/Regina:20260709T093000
DTSTAMP:20260423T103551
CREATED:20260315T221335Z
LAST-MODIFIED:20260315T221706Z
UID:15743-1783589400-1783589400@bmchurch.ca
SUMMARY:DVBS
DESCRIPTION:
URL:https://bmchurch.ca/event/adventure-club-4/
LOCATION:Reinfeld Church
CATEGORIES:DVBS
END:VEVENT
BEGIN:VEVENT
DTSTART;TZID=America/Regina:20260710T093000
DTEND;TZID=America/Regina:20260710T093000
DTSTAMP:20260423T103551
CREATED:20260315T221335Z
LAST-MODIFIED:20260315T221645Z
UID:15744-1783675800-1783675800@bmchurch.ca
SUMMARY:DVBS
DESCRIPTION:
URL:https://bmchurch.ca/event/adventure-club-5/
LOCATION:Reinfeld Church
CATEGORIES:DVBS
END:VEVENT
END:VCALENDAR