BEGIN:VCALENDAR
VERSION:2.0
PRODID:-//Bergthaler Mennonite Church - ECPv6.15.18//NONSGML v1.0//EN
CALSCALE:GREGORIAN
METHOD:PUBLISH
X-WR-CALNAME:Bergthaler Mennonite Church
X-ORIGINAL-URL:https://bmchurch.ca
X-WR-CALDESC:Events for Bergthaler Mennonite Church
REFRESH-INTERVAL;VALUE=DURATION:PT1H
X-Robots-Tag:noindex
X-PUBLISHED-TTL:PT1H
BEGIN:VTIMEZONE
TZID:America/Regina
BEGIN:STANDARD
TZOFFSETFROM:-0600
TZOFFSETTO:-0600
TZNAME:CST
DTSTART:20250101T000000
END:STANDARD
END:VTIMEZONE
BEGIN:VEVENT
DTSTART;TZID=America/Regina:20260323T193000
DTEND;TZID=America/Regina:20260323T193000
DTSTAMP:20260423T131957
CREATED:20260313T214926Z
LAST-MODIFIED:20260313T214926Z
UID:15714-1774294200-1774294200@bmchurch.ca
SUMMARY:Men's Bible Study
DESCRIPTION:
URL:https://bmchurch.ca/event/mens-bible-study-3/
LOCATION:Reinfeld Church
CATEGORIES:Men's Group
END:VEVENT
END:VCALENDAR