BEGIN:VCALENDAR
VERSION:2.0
PRODID:-//Bergthaler Mennonite Church - ECPv6.15.18//NONSGML v1.0//EN
CALSCALE:GREGORIAN
METHOD:PUBLISH
X-WR-CALNAME:Bergthaler Mennonite Church
X-ORIGINAL-URL:https://bmchurch.ca
X-WR-CALDESC:Events for Bergthaler Mennonite Church
REFRESH-INTERVAL;VALUE=DURATION:PT1H
X-Robots-Tag:noindex
X-PUBLISHED-TTL:PT1H
BEGIN:VTIMEZONE
TZID:America/Regina
BEGIN:STANDARD
TZOFFSETFROM:-0600
TZOFFSETTO:-0600
TZNAME:CST
DTSTART:20250101T000000
END:STANDARD
END:VTIMEZONE
BEGIN:VEVENT
DTSTART;TZID=America/Regina:20260404T080000
DTEND;TZID=America/Regina:20260404T080000
DTSTAMP:20260423T132552
CREATED:20260110T144215Z
LAST-MODIFIED:20260110T144215Z
UID:15365-1775289600-1775289600@bmchurch.ca
SUMMARY:Men’s Prayer Fellowship
DESCRIPTION:
URL:https://bmchurch.ca/event/mens-prayer-fellowship-3/
LOCATION:Gruenthal Church
CATEGORIES:Men's Group
END:VEVENT
END:VCALENDAR