BEGIN:VCALENDAR
VERSION:2.0
PRODID:-//Bergthaler Mennonite Church - ECPv6.15.18//NONSGML v1.0//EN
CALSCALE:GREGORIAN
METHOD:PUBLISH
X-WR-CALNAME:Bergthaler Mennonite Church
X-ORIGINAL-URL:https://bmchurch.ca
X-WR-CALDESC:Events for Bergthaler Mennonite Church
REFRESH-INTERVAL;VALUE=DURATION:PT1H
X-Robots-Tag:noindex
X-PUBLISHED-TTL:PT1H
BEGIN:VTIMEZONE
TZID:America/Regina
BEGIN:STANDARD
TZOFFSETFROM:-0600
TZOFFSETTO:-0600
TZNAME:CST
DTSTART:20250101T000000
END:STANDARD
END:VTIMEZONE
BEGIN:VEVENT
DTSTART;TZID=America/Regina:20260604T193000
DTEND;TZID=America/Regina:20260604T193000
DTSTAMP:20260423T134001
CREATED:20260416T234421Z
LAST-MODIFIED:20260416T234421Z
UID:15884-1780601400-1780601400@bmchurch.ca
SUMMARY:Grade 11 & 12 Youth - Bible Study
DESCRIPTION:
URL:https://bmchurch.ca/event/grade-11-12-youth-bible-study-12/
LOCATION:Gruenthal Church
CATEGORIES:Grade 11 & 12 Youth
END:VEVENT
BEGIN:VEVENT
DTSTART;TZID=America/Regina:20260611T193000
DTEND;TZID=America/Regina:20260611T193000
DTSTAMP:20260423T134001
CREATED:20260416T234421Z
LAST-MODIFIED:20260416T234421Z
UID:15885-1781206200-1781206200@bmchurch.ca
SUMMARY:Grade 11 & 12 Youth - Social
DESCRIPTION:
URL:https://bmchurch.ca/event/grade-11-12-youth-social-5/
CATEGORIES:Grade 11 & 12 Youth
END:VEVENT
BEGIN:VEVENT
DTSTART;TZID=America/Regina:20260618T193000
DTEND;TZID=America/Regina:20260618T193000
DTSTAMP:20260423T134001
CREATED:20260416T234421Z
LAST-MODIFIED:20260416T234421Z
UID:15886-1781811000-1781811000@bmchurch.ca
SUMMARY:Grade 11 & 12 Youth - Bible Study
DESCRIPTION:
URL:https://bmchurch.ca/event/grade-11-12-youth-bible-study-13/
LOCATION:Gruenthal Church
CATEGORIES:Grade 11 & 12 Youth
END:VEVENT
BEGIN:VEVENT
DTSTART;TZID=America/Regina:20260626T000000
DTEND;TZID=America/Regina:20260628T000000
DTSTAMP:20260423T134001
CREATED:20260416T234421Z
LAST-MODIFIED:20260416T234421Z
UID:15887-1782432000-1782604800@bmchurch.ca
SUMMARY:Grade 11 & 12 Youth - Camp
DESCRIPTION:
URL:https://bmchurch.ca/event/grade-11-12-youth-camp/
CATEGORIES:Grade 11 & 12 Youth
END:VEVENT
END:VCALENDAR