BEGIN:VCALENDAR
VERSION:2.0
PRODID:-//Bergthaler Mennonite Church - ECPv6.15.18//NONSGML v1.0//EN
CALSCALE:GREGORIAN
METHOD:PUBLISH
X-ORIGINAL-URL:https://bmchurch.ca
X-WR-CALDESC:Events for Bergthaler Mennonite Church
REFRESH-INTERVAL;VALUE=DURATION:PT1H
X-Robots-Tag:noindex
X-PUBLISHED-TTL:PT1H
BEGIN:VTIMEZONE
TZID:America/Regina
BEGIN:STANDARD
TZOFFSETFROM:-0600
TZOFFSETTO:-0600
TZNAME:CST
DTSTART:20250101T000000
END:STANDARD
END:VTIMEZONE
BEGIN:VEVENT
DTSTART;TZID=America/Regina:20260327T193000
DTEND;TZID=America/Regina:20260327T193000
DTSTAMP:20260423T131955
CREATED:20260111T052543Z
LAST-MODIFIED:20260317T161438Z
UID:15455-1774639800-1774639800@bmchurch.ca
SUMMARY:All Youth Goups - Joint Youth
DESCRIPTION:7/8: bring dessert\n9/10: bring chips\n11/12: bring drinks\nYoung Adults: bring snack
URL:https://bmchurch.ca/event/all-youth-goups-joint-youth-2/
LOCATION:Warman Church
CATEGORIES:Youth
END:VEVENT
END:VCALENDAR