BEGIN:VCALENDAR
VERSION:2.0
PRODID:-//Bergthaler Mennonite Church - ECPv6.15.18//NONSGML v1.0//EN
CALSCALE:GREGORIAN
METHOD:PUBLISH
X-WR-CALNAME:Bergthaler Mennonite Church
X-ORIGINAL-URL:https://bmchurch.ca
X-WR-CALDESC:Events for Bergthaler Mennonite Church
REFRESH-INTERVAL;VALUE=DURATION:PT1H
X-Robots-Tag:noindex
X-PUBLISHED-TTL:PT1H
BEGIN:VTIMEZONE
TZID:America/Regina
BEGIN:STANDARD
TZOFFSETFROM:-0600
TZOFFSETTO:-0600
TZNAME:CST
DTSTART:20250101T000000
END:STANDARD
END:VTIMEZONE
BEGIN:VEVENT
DTSTART;TZID=America/Regina:20260416T193000
DTEND;TZID=America/Regina:20260416T193000
DTSTAMP:20260423T120351
CREATED:20260214T000228Z
LAST-MODIFIED:20260214T000228Z
UID:15621-1776367800-1776367800@bmchurch.ca
SUMMARY:Grade 7 & 8 Youth – Bible Study
DESCRIPTION:
URL:https://bmchurch.ca/event/grade-7-8-youth-bible-study-6/
LOCATION:Gruenthal Church
CATEGORIES:Grade 7 & 8 Youth
END:VEVENT
BEGIN:VEVENT
DTSTART;TZID=America/Regina:20260409T193000
DTEND;TZID=America/Regina:20260409T193000
DTSTAMP:20260423T120351
CREATED:20260214T000228Z
LAST-MODIFIED:20260214T000422Z
UID:15620-1775763000-1775763000@bmchurch.ca
SUMMARY:Grade 7 & 8 Youth – Jumping @ Apex
DESCRIPTION:
URL:https://bmchurch.ca/event/grade-7-8-youth-jumping/
LOCATION:Apex Tramploline Park
CATEGORIES:Grade 7 & 8 Youth
END:VEVENT
END:VCALENDAR