BEGIN:VCALENDAR
VERSION:2.0
PRODID:-//Bergthaler Mennonite Church - ECPv6.15.18//NONSGML v1.0//EN
CALSCALE:GREGORIAN
METHOD:PUBLISH
X-WR-CALNAME:Bergthaler Mennonite Church
X-ORIGINAL-URL:https://bmchurch.ca
X-WR-CALDESC:Events for Bergthaler Mennonite Church
REFRESH-INTERVAL;VALUE=DURATION:PT1H
X-Robots-Tag:noindex
X-PUBLISHED-TTL:PT1H
BEGIN:VTIMEZONE
TZID:America/Regina
BEGIN:STANDARD
TZOFFSETFROM:-0600
TZOFFSETTO:-0600
TZNAME:CST
DTSTART:20250101T000000
END:STANDARD
END:VTIMEZONE
BEGIN:VEVENT
DTSTART;TZID=America/Regina:20260417T193000
DTEND;TZID=America/Regina:20260417T213000
DTSTAMP:20260423T120148
CREATED:20260128T214727Z
LAST-MODIFIED:20260128T215607Z
UID:15541-1776454200-1776461400@bmchurch.ca
SUMMARY:Grade 9 & 10 Youth – Bible Study
DESCRIPTION:
URL:https://bmchurch.ca/event/grade-9-10-youth-bible-study-6/
LOCATION:Gruenthal Church
CATEGORIES:Grade 9 & 10 Youth
END:VEVENT
BEGIN:VEVENT
DTSTART;TZID=America/Regina:20260417T193000
DTEND;TZID=America/Regina:20260417T193000
DTSTAMP:20260423T120148
CREATED:20260121T012839Z
LAST-MODIFIED:20260121T013136Z
UID:15505-1776454200-1776454200@bmchurch.ca
SUMMARY:Young Adults – TBD
DESCRIPTION:
URL:https://bmchurch.ca/event/young-adults-tbd/
LOCATION:Warman Church
CATEGORIES:Young Adults
END:VEVENT
BEGIN:VEVENT
DTSTART;TZID=America/Regina:20260416T193000
DTEND;TZID=America/Regina:20260416T193000
DTSTAMP:20260423T120148
CREATED:20260214T000228Z
LAST-MODIFIED:20260214T000228Z
UID:15621-1776367800-1776367800@bmchurch.ca
SUMMARY:Grade 7 & 8 Youth – Bible Study
DESCRIPTION:
URL:https://bmchurch.ca/event/grade-7-8-youth-bible-study-6/
LOCATION:Gruenthal Church
CATEGORIES:Grade 7 & 8 Youth
END:VEVENT
BEGIN:VEVENT
DTSTART;TZID=America/Regina:20260416T190000
DTEND;TZID=America/Regina:20260416T190000
DTSTAMP:20260423T120148
CREATED:20260111T052543Z
LAST-MODIFIED:20260410T203808Z
UID:15457-1776366000-1776366000@bmchurch.ca
SUMMARY:Grade 11 & 12 Youth - Apex
DESCRIPTION: Tims to follow.\nCost is $16/person plus $3.50/socks.\nBring your own socks if you have.
URL:https://bmchurch.ca/event/grade-11-12-youth-social-3/
LOCATION:Apex Tramploline Park
CATEGORIES:Grade 11 & 12 Youth
END:VEVENT
BEGIN:VEVENT
DTSTART;TZID=America/Regina:20260410T193000
DTEND;TZID=America/Regina:20260410T193000
DTSTAMP:20260423T120148
CREATED:20260128T214727Z
LAST-MODIFIED:20260128T215245Z
UID:15540-1775849400-1775849400@bmchurch.ca
SUMMARY:Grade 9 & 10 Youth – Guys/Girls Night
DESCRIPTION:Details to follow
URL:https://bmchurch.ca/event/grade-9-10-youth-guys-girls-night/
CATEGORIES:Grade 9 & 10 Youth
END:VEVENT
BEGIN:VEVENT
DTSTART;TZID=America/Regina:20260410T193000
DTEND;TZID=America/Regina:20260410T193000
DTSTAMP:20260423T120148
CREATED:20260121T012839Z
LAST-MODIFIED:20260121T013136Z
UID:15504-1775849400-1775849400@bmchurch.ca
SUMMARY:Young Adults – Bible Study
DESCRIPTION:
URL:https://bmchurch.ca/event/young-adults-bible-study-9/
LOCATION:Blumenheim Church
CATEGORIES:Young Adults
END:VEVENT
BEGIN:VEVENT
DTSTART;TZID=America/Regina:20260409T193000
DTEND;TZID=America/Regina:20260409T193000
DTSTAMP:20260423T120148
CREATED:20260214T000228Z
LAST-MODIFIED:20260214T000422Z
UID:15620-1775763000-1775763000@bmchurch.ca
SUMMARY:Grade 7 & 8 Youth – Jumping @ Apex
DESCRIPTION:
URL:https://bmchurch.ca/event/grade-7-8-youth-jumping/
LOCATION:Apex Tramploline Park
CATEGORIES:Grade 7 & 8 Youth
END:VEVENT
BEGIN:VEVENT
DTSTART;TZID=America/Regina:20260409T193000
DTEND;TZID=America/Regina:20260409T193000
DTSTAMP:20260423T120148
CREATED:20260111T052543Z
LAST-MODIFIED:20260111T052543Z
UID:15456-1775763000-1775763000@bmchurch.ca
SUMMARY:Grade 11 & 12 Youth - Deacon & Care Couple Appreciation Supper
DESCRIPTION:Please bring your bibles to studies
URL:https://bmchurch.ca/event/grade-11-12-youth-deacon-care-couple-appreciation-supper/
LOCATION:Gruenthal Church
CATEGORIES:Grade 11 & 12 Youth
END:VEVENT
BEGIN:VEVENT
DTSTART;TZID=America/Regina:20260327T193000
DTEND;TZID=America/Regina:20260327T193000
DTSTAMP:20260423T120148
CREATED:20260111T052543Z
LAST-MODIFIED:20260317T161438Z
UID:15455-1774639800-1774639800@bmchurch.ca
SUMMARY:All Youth Goups - Joint Youth
DESCRIPTION:7/8: bring dessert\n9/10: bring chips\n11/12: bring drinks\nYoung Adults: bring snack
URL:https://bmchurch.ca/event/all-youth-goups-joint-youth-2/
LOCATION:Warman Church
CATEGORIES:Youth
END:VEVENT
END:VCALENDAR