BEGIN:VCALENDAR
VERSION:2.0
PRODID:-//Bergthaler Mennonite Church - ECPv6.15.18//NONSGML v1.0//EN
CALSCALE:GREGORIAN
METHOD:PUBLISH
X-WR-CALNAME:Bergthaler Mennonite Church
X-ORIGINAL-URL:https://bmchurch.ca
X-WR-CALDESC:Events for Bergthaler Mennonite Church
REFRESH-INTERVAL;VALUE=DURATION:PT1H
X-Robots-Tag:noindex
X-PUBLISHED-TTL:PT1H
BEGIN:VTIMEZONE
TZID:America/Regina
BEGIN:STANDARD
TZOFFSETFROM:-0600
TZOFFSETTO:-0600
TZNAME:CST
DTSTART:20250101T000000
END:STANDARD
END:VTIMEZONE
BEGIN:VEVENT
DTSTART;TZID=America/Regina:20260514T193000
DTEND;TZID=America/Regina:20260514T193000
DTSTAMP:20260423T181641
CREATED:20260416T234421Z
LAST-MODIFIED:20260416T234421Z
UID:15882-1778787000-1778787000@bmchurch.ca
SUMMARY:Grade 11 & 12 Youth – Bible Study
DESCRIPTION:
URL:https://bmchurch.ca/event/grade-11-12-youth-bible-study-11/
LOCATION:Gruenthal Church
CATEGORIES:Grade 11 & 12 Youth
END:VEVENT
BEGIN:VEVENT
DTSTART;TZID=America/Regina:20260515T193000
DTEND;TZID=America/Regina:20260515T213000
DTSTAMP:20260423T181641
CREATED:20260128T214727Z
LAST-MODIFIED:20260128T215632Z
UID:15545-1778873400-1778880600@bmchurch.ca
SUMMARY:Grade 9 & 10 Youth – Bible Study
DESCRIPTION:
URL:https://bmchurch.ca/event/grade-9-10-youth-bible-study-9/
LOCATION:Gruenthal Church
CATEGORIES:Grade 9 & 10 Youth
END:VEVENT
BEGIN:VEVENT
DTSTART;TZID=America/Regina:20260521T193000
DTEND;TZID=America/Regina:20260521T193000
DTSTAMP:20260423T181641
CREATED:20260214T000228Z
LAST-MODIFIED:20260214T000228Z
UID:15626-1779391800-1779391800@bmchurch.ca
SUMMARY:Grade 7 & 8 Youth – Bottle Drive
DESCRIPTION:
URL:https://bmchurch.ca/event/grade-7-8-youth-bottle-drive/
CATEGORIES:Grade 7 & 8 Youth
END:VEVENT
BEGIN:VEVENT
DTSTART;TZID=America/Regina:20260521T193000
DTEND;TZID=America/Regina:20260521T193000
DTSTAMP:20260423T181641
CREATED:20260416T234421Z
LAST-MODIFIED:20260416T234421Z
UID:15883-1779391800-1779391800@bmchurch.ca
SUMMARY:Grade 11 & 12 Youth – Social
DESCRIPTION:
URL:https://bmchurch.ca/event/grade-11-12-youth-social-4/
CATEGORIES:Grade 11 & 12 Youth
END:VEVENT
BEGIN:VEVENT
DTSTART;TZID=America/Regina:20260522T193000
DTEND;TZID=America/Regina:20260522T193000
DTSTAMP:20260423T181641
CREATED:20260128T214727Z
LAST-MODIFIED:20260128T215245Z
UID:15546-1779478200-1779478200@bmchurch.ca
SUMMARY:Grade 9 & 10 Youth – Progresive Supper
DESCRIPTION:Details to follow
URL:https://bmchurch.ca/event/grade-9-10-youth-progresive-supper/
CATEGORIES:Grade 9 & 10 Youth
END:VEVENT
BEGIN:VEVENT
DTSTART;TZID=America/Regina:20260529T193000
DTEND;TZID=America/Regina:20260529T193000
DTSTAMP:20260423T181641
CREATED:20260128T220417Z
LAST-MODIFIED:20260416T234421Z
UID:15585-1780083000-1780083000@bmchurch.ca
SUMMARY:All Youth Goups - Joint Youth
DESCRIPTION:
URL:https://bmchurch.ca/event/all-youth-goups-joint-youth-3/
LOCATION:Warman Church
CATEGORIES:Youth
END:VEVENT
BEGIN:VEVENT
DTSTART;TZID=America/Regina:20260604T193000
DTEND;TZID=America/Regina:20260604T193000
DTSTAMP:20260423T181641
CREATED:20260214T000228Z
LAST-MODIFIED:20260214T000228Z
UID:15627-1780601400-1780601400@bmchurch.ca
SUMMARY:Grade 9 & 10 Youth – Bible Study
DESCRIPTION:
URL:https://bmchurch.ca/event/grade-9-10-youth-bible-study-17/
LOCATION:Gruenthal Church
CATEGORIES:Grade 7 & 8 Youth
END:VEVENT
BEGIN:VEVENT
DTSTART;TZID=America/Regina:20260604T193000
DTEND;TZID=America/Regina:20260604T193000
DTSTAMP:20260423T181641
CREATED:20260416T234421Z
LAST-MODIFIED:20260416T234421Z
UID:15884-1780601400-1780601400@bmchurch.ca
SUMMARY:Grade 11 & 12 Youth - Bible Study
DESCRIPTION:
URL:https://bmchurch.ca/event/grade-11-12-youth-bible-study-12/
LOCATION:Gruenthal Church
CATEGORIES:Grade 11 & 12 Youth
END:VEVENT
BEGIN:VEVENT
DTSTART;TZID=America/Regina:20260605T193000
DTEND;TZID=America/Regina:20260605T213000
DTSTAMP:20260423T181641
CREATED:20260128T214727Z
LAST-MODIFIED:20260128T215650Z
UID:15547-1780687800-1780695000@bmchurch.ca
SUMMARY:Grade 9 & 10 Youth – Bible Study
DESCRIPTION:
URL:https://bmchurch.ca/event/grade-9-10-youth-bible-study-10/
LOCATION:Gruenthal Church
CATEGORIES:Grade 9 & 10 Youth
END:VEVENT
BEGIN:VEVENT
DTSTART;TZID=America/Regina:20260611T193000
DTEND;TZID=America/Regina:20260611T193000
DTSTAMP:20260423T181641
CREATED:20260214T000228Z
LAST-MODIFIED:20260214T000228Z
UID:15628-1781206200-1781206200@bmchurch.ca
SUMMARY:Grade 7 & 8 Youth – Scavenger Hunt
DESCRIPTION:
URL:https://bmchurch.ca/event/grade-7-8-youth-scavenger-hunt/
CATEGORIES:Grade 7 & 8 Youth
END:VEVENT
BEGIN:VEVENT
DTSTART;TZID=America/Regina:20260611T193000
DTEND;TZID=America/Regina:20260611T193000
DTSTAMP:20260423T181641
CREATED:20260416T234421Z
LAST-MODIFIED:20260416T234421Z
UID:15885-1781206200-1781206200@bmchurch.ca
SUMMARY:Grade 11 & 12 Youth - Social
DESCRIPTION:
URL:https://bmchurch.ca/event/grade-11-12-youth-social-5/
CATEGORIES:Grade 11 & 12 Youth
END:VEVENT
BEGIN:VEVENT
DTSTART;TZID=America/Regina:20260612T193000
DTEND;TZID=America/Regina:20260612T213000
DTSTAMP:20260423T181641
CREATED:20260128T214743Z
LAST-MODIFIED:20260128T215655Z
UID:15548-1781292600-1781299800@bmchurch.ca
SUMMARY:Grade 9 & 10 Youth – Bible Study
DESCRIPTION:
URL:https://bmchurch.ca/event/grade-9-10-youth-bible-study-11/
LOCATION:Gruenthal Church
CATEGORIES:Grade 9 & 10 Youth
END:VEVENT
BEGIN:VEVENT
DTSTART;TZID=America/Regina:20260618T193000
DTEND;TZID=America/Regina:20260618T193000
DTSTAMP:20260423T181641
CREATED:20260214T000228Z
LAST-MODIFIED:20260214T000228Z
UID:15629-1781811000-1781811000@bmchurch.ca
SUMMARY:Grade 7 & 8 Youth – Bible Study
DESCRIPTION:
URL:https://bmchurch.ca/event/grade-7-8-youth-bible-study-10/
LOCATION:Gruenthal Church
CATEGORIES:Grade 7 & 8 Youth
END:VEVENT
BEGIN:VEVENT
DTSTART;TZID=America/Regina:20260618T193000
DTEND;TZID=America/Regina:20260618T193000
DTSTAMP:20260423T181641
CREATED:20260416T234421Z
LAST-MODIFIED:20260416T234421Z
UID:15886-1781811000-1781811000@bmchurch.ca
SUMMARY:Grade 11 & 12 Youth - Bible Study
DESCRIPTION:
URL:https://bmchurch.ca/event/grade-11-12-youth-bible-study-13/
LOCATION:Gruenthal Church
CATEGORIES:Grade 11 & 12 Youth
END:VEVENT
BEGIN:VEVENT
DTSTART;TZID=America/Regina:20260619T193000
DTEND;TZID=America/Regina:20260619T193000
DTSTAMP:20260423T181641
CREATED:20260128T214743Z
LAST-MODIFIED:20260128T215300Z
UID:15549-1781897400-1781897400@bmchurch.ca
SUMMARY:Grade 9 & 10 Youth – Social Bibking / Hiking
DESCRIPTION:Details to follow
URL:https://bmchurch.ca/event/grade-9-10-youth-social-bibking-hiking/
CATEGORIES:Grade 9 & 10 Youth
END:VEVENT
BEGIN:VEVENT
DTSTART;TZID=America/Regina:20260625T193000
DTEND;TZID=America/Regina:20260625T193000
DTSTAMP:20260423T181641
CREATED:20260214T000243Z
LAST-MODIFIED:20260214T000243Z
UID:15630-1782415800-1782415800@bmchurch.ca
SUMMARY:Grade 7 & 8 Youth – Bible Study
DESCRIPTION:
URL:https://bmchurch.ca/event/grade-7-8-youth-bible-study-11/
LOCATION:Gruenthal Church
CATEGORIES:Grade 7 & 8 Youth
END:VEVENT
BEGIN:VEVENT
DTSTART;TZID=America/Regina:20260626T000000
DTEND;TZID=America/Regina:20260628T000000
DTSTAMP:20260423T181641
CREATED:20260416T234421Z
LAST-MODIFIED:20260416T234421Z
UID:15887-1782432000-1782604800@bmchurch.ca
SUMMARY:Grade 11 & 12 Youth - Camp
DESCRIPTION:
URL:https://bmchurch.ca/event/grade-11-12-youth-camp/
CATEGORIES:Grade 11 & 12 Youth
END:VEVENT
BEGIN:VEVENT
DTSTART;TZID=America/Regina:20260626T193000
DTEND;TZID=America/Regina:20260626T213000
DTSTAMP:20260423T181641
CREATED:20260128T214743Z
LAST-MODIFIED:20260128T215724Z
UID:15550-1782502200-1782509400@bmchurch.ca
SUMMARY:Grade 9 & 10 Youth – Bible Study
DESCRIPTION:
URL:https://bmchurch.ca/event/grade-9-10-youth-bible-study-12/
LOCATION:Gruenthal Church
CATEGORIES:Grade 9 & 10 Youth
END:VEVENT
BEGIN:VEVENT
DTSTART;TZID=America/Regina:20260702T193000
DTEND;TZID=America/Regina:20260702T193000
DTSTAMP:20260423T181641
CREATED:20260416T234421Z
LAST-MODIFIED:20260416T234421Z
UID:15888-1783020600-1783020600@bmchurch.ca
SUMMARY:Grade 11 & 12 Youth - Bible Study
DESCRIPTION:
URL:https://bmchurch.ca/event/grade-11-12-youth-bible-study-14/
LOCATION:Gruenthal Church
CATEGORIES:Grade 11 & 12 Youth
END:VEVENT
BEGIN:VEVENT
DTSTART;TZID=America/Regina:20260703T000000
DTEND;TZID=America/Regina:20260706T000000
DTSTAMP:20260423T181641
CREATED:20260214T000243Z
LAST-MODIFIED:20260214T000243Z
UID:15631-1783036800-1783296000@bmchurch.ca
SUMMARY:Grade 7 & 8 Youth – Youth Camp
DESCRIPTION:
URL:https://bmchurch.ca/event/grade-7-8-youth-youth-camp/
CATEGORIES:Grade 7 & 8 Youth
END:VEVENT
BEGIN:VEVENT
DTSTART;TZID=America/Regina:20260703T193000
DTEND;TZID=America/Regina:20260703T213000
DTSTAMP:20260423T181641
CREATED:20260128T214743Z
LAST-MODIFIED:20260128T215716Z
UID:15551-1783107000-1783114200@bmchurch.ca
SUMMARY:Grade 9 & 10 Youth – Bible Study
DESCRIPTION:
URL:https://bmchurch.ca/event/grade-9-10-youth-bible-study-13/
LOCATION:Gruenthal Church
CATEGORIES:Grade 9 & 10 Youth
END:VEVENT
BEGIN:VEVENT
DTSTART;TZID=America/Regina:20260716T193000
DTEND;TZID=America/Regina:20260716T193000
DTSTAMP:20260423T181641
CREATED:20260214T000243Z
LAST-MODIFIED:20260214T000243Z
UID:15632-1784230200-1784230200@bmchurch.ca
SUMMARY:Grade 7 & 8 Youth – Bible Study
DESCRIPTION:
URL:https://bmchurch.ca/event/grade-7-8-youth-bible-study-12/
LOCATION:Gruenthal Church
CATEGORIES:Grade 7 & 8 Youth
END:VEVENT
BEGIN:VEVENT
DTSTART;TZID=America/Regina:20260716T193000
DTEND;TZID=America/Regina:20260716T193000
DTSTAMP:20260423T181641
CREATED:20260416T234421Z
LAST-MODIFIED:20260416T234421Z
UID:15889-1784230200-1784230200@bmchurch.ca
SUMMARY:Grade 11 & 12 Youth - Bible Study
DESCRIPTION:
URL:https://bmchurch.ca/event/grade-11-12-youth-bible-study-15/
LOCATION:Gruenthal Church
CATEGORIES:Grade 11 & 12 Youth
END:VEVENT
BEGIN:VEVENT
DTSTART;TZID=America/Regina:20260717T000000
DTEND;TZID=America/Regina:20260719T000000
DTSTAMP:20260423T181641
CREATED:20260128T214743Z
LAST-MODIFIED:20260128T215301Z
UID:15552-1784246400-1784419200@bmchurch.ca
SUMMARY:Grade 9 & 10 Youth – Youth Camp
DESCRIPTION:Details to follow
URL:https://bmchurch.ca/event/grade-9-10-youth-youth-camp/
CATEGORIES:Grade 9 & 10 Youth
END:VEVENT
BEGIN:VEVENT
DTSTART;TZID=America/Regina:20260730T193000
DTEND;TZID=America/Regina:20260730T193000
DTSTAMP:20260423T181641
CREATED:20260214T000243Z
LAST-MODIFIED:20260214T000243Z
UID:15633-1785439800-1785439800@bmchurch.ca
SUMMARY:Grade 7 & 8 Youth – Swimming
DESCRIPTION:
URL:https://bmchurch.ca/event/grade-7-8-youth-swimming/
CATEGORIES:Grade 7 & 8 Youth
END:VEVENT
BEGIN:VEVENT
DTSTART;TZID=America/Regina:20260730T193000
DTEND;TZID=America/Regina:20260730T193000
DTSTAMP:20260423T181641
CREATED:20260416T234421Z
LAST-MODIFIED:20260416T234421Z
UID:15890-1785439800-1785439800@bmchurch.ca
SUMMARY:All Youth Goups - Youth Wide Swim
DESCRIPTION:
URL:https://bmchurch.ca/event/all-youth-goups-youth-wide-swim/
LOCATION:Gruenthal Church
CATEGORIES:Youth
END:VEVENT
BEGIN:VEVENT
DTSTART;TZID=America/Regina:20260731T193000
DTEND;TZID=America/Regina:20260731T213000
DTSTAMP:20260423T181641
CREATED:20260128T214757Z
LAST-MODIFIED:20260128T215757Z
UID:15553-1785526200-1785533400@bmchurch.ca
SUMMARY:Grade 9 & 10 Youth – Bible Study
DESCRIPTION:
URL:https://bmchurch.ca/event/grade-9-10-youth-bible-study-14/
LOCATION:Gruenthal Church
CATEGORIES:Grade 9 & 10 Youth
END:VEVENT
BEGIN:VEVENT
DTSTART;TZID=America/Regina:20260813T193000
DTEND;TZID=America/Regina:20260813T193000
DTSTAMP:20260423T181641
CREATED:20260214T000243Z
LAST-MODIFIED:20260214T000243Z
UID:15634-1786649400-1786649400@bmchurch.ca
SUMMARY:Grade 7 & 8 Youth – Bible Study
DESCRIPTION:
URL:https://bmchurch.ca/event/grade-7-8-youth-bible-study-13/
CATEGORIES:Grade 7 & 8 Youth
END:VEVENT
BEGIN:VEVENT
DTSTART;TZID=America/Regina:20260813T193000
DTEND;TZID=America/Regina:20260813T193000
DTSTAMP:20260423T181641
CREATED:20260416T234421Z
LAST-MODIFIED:20260416T234421Z
UID:15891-1786649400-1786649400@bmchurch.ca
SUMMARY:Grade 11 & 12 Youth - Bible Study
DESCRIPTION:
URL:https://bmchurch.ca/event/grade-11-12-youth-bible-study-16/
LOCATION:Gruenthal Church
CATEGORIES:Grade 11 & 12 Youth
END:VEVENT
BEGIN:VEVENT
DTSTART;TZID=America/Regina:20260814T193000
DTEND;TZID=America/Regina:20260814T213000
DTSTAMP:20260423T181641
CREATED:20260128T214758Z
LAST-MODIFIED:20260128T215752Z
UID:15554-1786735800-1786743000@bmchurch.ca
SUMMARY:Grade 9 & 10 Youth – Bible Study
DESCRIPTION:
URL:https://bmchurch.ca/event/grade-9-10-youth-bible-study-15/
LOCATION:Gruenthal Church
CATEGORIES:Grade 9 & 10 Youth
END:VEVENT
END:VCALENDAR